BEGIN:VCALENDAR
VERSION:2.0
PRODID:-//Washington County Master Gardeners - ECPv6.15.20//NONSGML v1.0//EN
CALSCALE:GREGORIAN
METHOD:PUBLISH
X-WR-CALNAME:Washington County Master Gardeners
X-ORIGINAL-URL:https://wcmgar.org
X-WR-CALDESC:Events for Washington County Master Gardeners
REFRESH-INTERVAL;VALUE=DURATION:PT1H
X-Robots-Tag:noindex
X-PUBLISHED-TTL:PT1H
BEGIN:VTIMEZONE
TZID:America/Chicago
BEGIN:DAYLIGHT
TZOFFSETFROM:-0600
TZOFFSETTO:-0500
TZNAME:CDT
DTSTART:20250309T080000
END:DAYLIGHT
BEGIN:STANDARD
TZOFFSETFROM:-0500
TZOFFSETTO:-0600
TZNAME:CST
DTSTART:20251102T070000
END:STANDARD
BEGIN:DAYLIGHT
TZOFFSETFROM:-0600
TZOFFSETTO:-0500
TZNAME:CDT
DTSTART:20260308T080000
END:DAYLIGHT
BEGIN:STANDARD
TZOFFSETFROM:-0500
TZOFFSETTO:-0600
TZNAME:CST
DTSTART:20261101T070000
END:STANDARD
BEGIN:DAYLIGHT
TZOFFSETFROM:-0600
TZOFFSETTO:-0500
TZNAME:CDT
DTSTART:20270314T080000
END:DAYLIGHT
BEGIN:STANDARD
TZOFFSETFROM:-0500
TZOFFSETTO:-0600
TZNAME:CST
DTSTART:20271107T070000
END:STANDARD
END:VTIMEZONE
BEGIN:VEVENT
DTSTART;VALUE=DATE:20260615
DTEND;VALUE=DATE:20260616
DTSTAMP:20260421T062024
CREATED:20251212T154751Z
LAST-MODIFIED:20251212T154751Z
UID:267065-1781481600-1781567999@wcmgar.org
SUMMARY:Photo of the Month deadline
DESCRIPTION:Visit the Photo of the Month Competition webpage for details.
URL:https://wcmgar.org/calendar/photo-of-the-month-deadline-6/
CATEGORIES:Photo of the Month Contest
END:VEVENT
BEGIN:VEVENT
DTSTART;TZID=America/Chicago:20260707T183000
DTEND;TZID=America/Chicago:20260707T200000
DTSTAMP:20260421T062024
CREATED:20251212T000558Z
LAST-MODIFIED:20251212T000558Z
UID:267023-1783449000-1783454400@wcmgar.org
SUMMARY:WCMG Monthly Meeting
DESCRIPTION:Program TBA \nWashington County Extension Office Auditorium\n2536 N. McConnell Avenue\, Fayetteville
URL:https://wcmgar.org/calendar/wcmg-monthly-meeting-19/
CATEGORIES:Monthly Meeting
END:VEVENT
BEGIN:VEVENT
DTSTART;VALUE=DATE:20260715
DTEND;VALUE=DATE:20260716
DTSTAMP:20260421T062024
CREATED:20251212T154822Z
LAST-MODIFIED:20251212T154822Z
UID:267067-1784073600-1784159999@wcmgar.org
SUMMARY:Photo of the Month deadline
DESCRIPTION:Visit the Photo of the Month Competition webpage for details.
URL:https://wcmgar.org/calendar/photo-of-the-month-deadline-7/
CATEGORIES:Photo of the Month Contest
END:VEVENT
BEGIN:VEVENT
DTSTART;TZID=America/Chicago:20260804T183000
DTEND;TZID=America/Chicago:20260804T200000
DTSTAMP:20260421T062024
CREATED:20251212T000639Z
LAST-MODIFIED:20251212T000639Z
UID:267025-1785868200-1785873600@wcmgar.org
SUMMARY:WCMG Monthly Meeting
DESCRIPTION:Program TBA \nWashington County Extension Office Auditorium\n2536 N. McConnell Avenue\, Fayetteville
URL:https://wcmgar.org/calendar/wcmg-monthly-meeting-20/
CATEGORIES:Monthly Meeting
END:VEVENT
BEGIN:VEVENT
DTSTART;VALUE=DATE:20260815
DTEND;VALUE=DATE:20260816
DTSTAMP:20260421T062024
CREATED:20251212T154850Z
LAST-MODIFIED:20251212T154850Z
UID:267069-1786752000-1786838399@wcmgar.org
SUMMARY:Photo of the Month deadline
DESCRIPTION:Visit the Photo of the Month Competition webpage for details.
URL:https://wcmgar.org/calendar/photo-of-the-month-deadline-8/
CATEGORIES:Photo of the Month Contest
END:VEVENT
BEGIN:VEVENT
DTSTART;TZID=America/Chicago:20260901T183000
DTEND;TZID=America/Chicago:20260901T200000
DTSTAMP:20260421T062024
CREATED:20251212T000730Z
LAST-MODIFIED:20251212T000730Z
UID:267027-1788287400-1788292800@wcmgar.org
SUMMARY:WCMG Monthly Meeting
DESCRIPTION:Program TBA \nWashington County Extension Office Auditorium\n2536 N. McConnell Avenue\, Fayetteville
URL:https://wcmgar.org/calendar/wcmg-monthly-meeting-21/
CATEGORIES:Monthly Meeting
END:VEVENT
BEGIN:VEVENT
DTSTART;VALUE=DATE:20260915
DTEND;VALUE=DATE:20260916
DTSTAMP:20260421T062024
CREATED:20251212T154926Z
LAST-MODIFIED:20251212T154926Z
UID:267071-1789430400-1789516799@wcmgar.org
SUMMARY:Photo of the Month deadline
DESCRIPTION:Visit the Photo of the Month Competition webpage for details.
URL:https://wcmgar.org/calendar/photo-of-the-month-deadline-9/
CATEGORIES:Photo of the Month Contest
END:VEVENT
BEGIN:VEVENT
DTSTART;TZID=America/Chicago:20261006T183000
DTEND;TZID=America/Chicago:20261006T200000
DTSTAMP:20260421T062024
CREATED:20251212T000814Z
LAST-MODIFIED:20251212T000814Z
UID:267029-1791311400-1791316800@wcmgar.org
SUMMARY:WCMG Monthly Meeting
DESCRIPTION:Program TBA \nWashington County Extension Office Auditorium\n2536 N. McConnell Avenue\, Fayetteville
URL:https://wcmgar.org/calendar/wcmg-monthly-meeting-22/
CATEGORIES:Monthly Meeting
END:VEVENT
BEGIN:VEVENT
DTSTART;VALUE=DATE:20261015
DTEND;VALUE=DATE:20261016
DTSTAMP:20260421T062024
CREATED:20251212T154953Z
LAST-MODIFIED:20251212T154953Z
UID:267073-1792022400-1792108799@wcmgar.org
SUMMARY:Photo of the Month deadline
DESCRIPTION:Visit the Photo of the Month Competition webpage for details.
URL:https://wcmgar.org/calendar/photo-of-the-month-deadline-12/
CATEGORIES:Photo of the Month Contest
END:VEVENT
BEGIN:VEVENT
DTSTART;TZID=America/Chicago:20261103T183000
DTEND;TZID=America/Chicago:20261103T200000
DTSTAMP:20260421T062024
CREATED:20251212T000859Z
LAST-MODIFIED:20251212T000859Z
UID:267031-1793730600-1793736000@wcmgar.org
SUMMARY:WCMG Monthly Meeting
DESCRIPTION:Program TBA \nWashington County Extension Office Auditorium\n2536 N. McConnell Avenue\, Fayetteville
URL:https://wcmgar.org/calendar/wcmg-monthly-meeting-23/
CATEGORIES:Monthly Meeting
END:VEVENT
BEGIN:VEVENT
DTSTART;VALUE=DATE:20261115
DTEND;VALUE=DATE:20261116
DTSTAMP:20260421T062024
CREATED:20251212T155056Z
LAST-MODIFIED:20251212T155056Z
UID:267075-1794700800-1794787199@wcmgar.org
SUMMARY:Photo of the Month deadline
DESCRIPTION:Visit the Photo of the Month Competition webpage for details.
URL:https://wcmgar.org/calendar/photo-of-the-month-deadline-13/
CATEGORIES:Photo of the Month Contest
END:VEVENT
BEGIN:VEVENT
DTSTART;TZID=America/Chicago:20261201T183000
DTEND;TZID=America/Chicago:20261201T200000
DTSTAMP:20260421T062024
CREATED:20251212T001029Z
LAST-MODIFIED:20251212T001029Z
UID:267033-1796149800-1796155200@wcmgar.org
SUMMARY:WCMG Monthly Meeting
DESCRIPTION:Annual Holiday Potluck\nProgram TBA \nDon Tyson Center for Agriculutural Sciences\n1371 W. Altheimer Drive\, Fayetteville
URL:https://wcmgar.org/calendar/wcmg-monthly-meeting-24/
CATEGORIES:Monthly Meeting
END:VEVENT
BEGIN:VEVENT
DTSTART;VALUE=DATE:20261215
DTEND;VALUE=DATE:20261216
DTSTAMP:20260421T062024
CREATED:20251212T155126Z
LAST-MODIFIED:20251212T155126Z
UID:267077-1797292800-1797379199@wcmgar.org
SUMMARY:Photo of the Month deadline
DESCRIPTION:Visit the Photo of the Month Competition webpage for details.
URL:https://wcmgar.org/calendar/photo-of-the-month-deadline-14/
CATEGORIES:Photo of the Month Contest
END:VEVENT
END:VCALENDAR